BEGIN:VCALENDAR
VERSION:2.0
PRODID:-//Youth Arts Academy - ECPv6.15.20//NONSGML v1.0//EN
CALSCALE:GREGORIAN
METHOD:PUBLISH
X-ORIGINAL-URL:https://www.youthartsacademysd.org
X-WR-CALDESC:Events for Youth Arts Academy
REFRESH-INTERVAL;VALUE=DURATION:PT1H
X-Robots-Tag:noindex
X-PUBLISHED-TTL:PT1H
BEGIN:VTIMEZONE
TZID:UTC
BEGIN:STANDARD
TZOFFSETFROM:+0000
TZOFFSETTO:+0000
TZNAME:UTC
DTSTART:20220101T000000
END:STANDARD
END:VTIMEZONE
BEGIN:VEVENT
DTSTART;TZID=UTC:20230912T170000
DTEND;TZID=UTC:20230912T180000
DTSTAMP:20260425T194844
CREATED:20230823T004634Z
LAST-MODIFIED:20230907T174514Z
UID:987510620-1694538000-1694541600@www.youthartsacademysd.org
SUMMARY:Rock Band Mixer and Info Session
DESCRIPTION:This mixer will be an excellent opportunity for students to meet their future band mates\, get to know the band instructors\, and see the Youth Arts Academy space. We will be going over the changes that are coming to the program\, so even if you have been in the program for multiple years\, it will be helpful to attend this meeting.\n\nAlso\, at this mixer/info session\, you will be able to select your rehearsal time for the season. We will have all the options and you can select which time slots work for your schedule.\n\n\n\n\n\nRefreshments will be provided. We ask that you please RSVP to this event. Feel free to invite friends who might be interested in the Rock Band Program!\n\n			\n			\n				\n				\n				\n				\n				\n				\n				\n				\n				\n				\n			\n			\n				\n				\n				\n				\n			\n				\n				\n			\n				\n				\n				\n				\n				\n				\n				\n				\n				\n				\n				\n				\n				\n				RSVP for the Mixer
URL:https://www.youthartsacademysd.org/event/rock-band-info-session/
LOCATION:Youth Arts Academy\, 3800-A Mykonos Ln\, San Diego\, CA\, 92130\, United States
CATEGORIES:Rock Band
ORGANIZER;CN="Youth Arts Academy":MAILTO:YAA@BGCSanDieguito.org
END:VEVENT
END:VCALENDAR