BEGIN:VCALENDAR
VERSION:2.0
PRODID:-//Youth Arts Academy - ECPv6.15.20//NONSGML v1.0//EN
CALSCALE:GREGORIAN
METHOD:PUBLISH
X-WR-CALNAME:Youth Arts Academy
X-ORIGINAL-URL:https://www.youthartsacademysd.org
X-WR-CALDESC:Events for Youth Arts Academy
REFRESH-INTERVAL;VALUE=DURATION:PT1H
X-Robots-Tag:noindex
X-PUBLISHED-TTL:PT1H
BEGIN:VTIMEZONE
TZID:UTC
BEGIN:STANDARD
TZOFFSETFROM:+0000
TZOFFSETTO:+0000
TZNAME:UTC
DTSTART:20230101T000000
END:STANDARD
END:VTIMEZONE
BEGIN:VEVENT
DTSTART;TZID=UTC:20240508T180000
DTEND;TZID=UTC:20240508T200000
DTSTAMP:20260421T100252
CREATED:20230823T010932Z
LAST-MODIFIED:20230823T011811Z
UID:987510664-1715191200-1715198400@www.youthartsacademysd.org
SUMMARY:Spring Private Lesson Recitals
DESCRIPTION:
URL:https://www.youthartsacademysd.org/event/spring-private-lesson-recitals-2/
LOCATION:Youth Arts Academy\, 3800-A Mykonos Ln\, San Diego\, CA\, 92130\, United States
CATEGORIES:Performances,Private Lesson Recitals
END:VEVENT
END:VCALENDAR